BEGIN:VCALENDAR
VERSION:2.0
PRODID:-//Contaclown - ECPv6.15.14//NONSGML v1.0//EN
CALSCALE:GREGORIAN
METHOD:PUBLISH
X-WR-CALNAME:Contaclown
X-ORIGINAL-URL:https://contaclown.es
X-WR-CALDESC:Esdeveniments per Contaclown
REFRESH-INTERVAL;VALUE=DURATION:PT1H
X-Robots-Tag:noindex
X-PUBLISHED-TTL:PT1H
BEGIN:VTIMEZONE
TZID:UTC
BEGIN:STANDARD
TZOFFSETFROM:+0000
TZOFFSETTO:+0000
TZNAME:UTC
DTSTART:20210101T000000
END:STANDARD
END:VTIMEZONE
BEGIN:VEVENT
DTSTART;TZID=UTC:20221124T180000
DTEND;TZID=UTC:20221124T184500
DTSTAMP:20260422T101412
CREATED:20221109T205059Z
LAST-MODIFIED:20221109T205100Z
UID:3611-1669312800-1669315500@contaclown.es
SUMMARY:Contem tots/es!
DESCRIPTION:Recull de contes coeducatius\, divertits i solidaris\, \non la cooperació i l´amistat resoldrà qualsevol conflicte. \nEspectacle especial per el 25N\, Dia Internacional contra la violència de gènere.
URL:https://contaclown.es/activitat/contem-tots-es
LOCATION:Plaça Pere Cornell\, Almassora
CATEGORIES:Contacontes
ATTACH;FMTTYPE=image/jpeg:https://contaclown.es/wp-content/uploads/2022/11/CONTEM-TOTSES-ALMASSORA.jpg
END:VEVENT
BEGIN:VEVENT
DTSTART;TZID=UTC:20221120T113000
DTEND;TZID=UTC:20221120T123000
DTSTAMP:20260422T101412
CREATED:20221108T213645Z
LAST-MODIFIED:20221109T101228Z
UID:3606-1668943800-1668947400@contaclown.es
SUMMARY:Tú contes
DESCRIPTION:Sinopsi: \nUn xiquet gegant que ha de treballar per poder menjar\, \nuna xiqueta que mentres espera a la seua familia adoptiva \nimagina com poden ser\, una granota que viu a un lloc contaminat \ni que necessitarà l´ajuda de molts amics i amigues per poder viure en condicions\,  \nuna princesa que vol convertir-se en doctora i un cavaller que vol ser infermer… \nContarem contes que ens parlen dels drets dels xiquets/es : \n. Dret a estudiar i no treballar \n. Dret a sentir-se estimat \n. Dret a viure a una vivenda digna a un lloc no contaminat\, \n. Dret a tindre una familia que et cuide \, \n. Dret a tindre una una nacionalitat… \nContes divertits i sorprenents per aprendre que tots contem i festejar el 20 de Novembre \n Dia Internacional dels drets dels infants.
URL:https://contaclown.es/activitat/tu-contes
LOCATION:Plaça de l´Ajuntament. Canet d´En Berenguer
CATEGORIES:Contacontes
ATTACH;FMTTYPE=image/jpeg:https://contaclown.es/wp-content/uploads/2022/11/20-NOVEMBRE.jpg
END:VEVENT
BEGIN:VEVENT
DTSTART;TZID=UTC:20221119T170000
DTEND;TZID=UTC:20221119T174000
DTSTAMP:20260422T101412
CREATED:20221120T083239Z
LAST-MODIFIED:20221120T083240Z
UID:3620-1668877200-1668879600@contaclown.es
SUMMARY:Tú contes
DESCRIPTION:Un xiquet gegant que ha de treballar per poder menjar\, \nuna xiqueta que mentres espera a la seua familia adoptiva \nimagina com pot ser la seua familia ideal\, una bruixeta solidaria… \nContarem contes que ens parlen dels drets dels xiquets/es : \n.Dret a estudiar i no treballar \n.Dret a sentir-se estimat \n. Dret a tindre una familia que et cuide \, \n. Dret a tindre una una nacionalitat… \nContes divertits i sorprenents per aprendre que tots contem \n i festejar el 20 de Novembre Dia Internacional dels drets dels infants.
URL:https://contaclown.es/activitat/tu-contes-2
CATEGORIES:Contacontes
ATTACH;FMTTYPE=image/jpeg:https://contaclown.es/wp-content/uploads/2022/11/315889787_521582810008014_6052962995377463291_n.jpg
END:VEVENT
BEGIN:VEVENT
DTSTART;TZID=UTC:20221116T180000
DTEND;TZID=UTC:20221116T190000
DTSTAMP:20260422T101412
CREATED:20221108T210252Z
LAST-MODIFIED:20221108T210253Z
UID:3604-1668621600-1668625200@contaclown.es
SUMMARY:Transformacontes
DESCRIPTION:Sinopsi\nEls contes poden transformar-se en altres objectes\, transformar històries populars\, e inclús transformar la nostra forma de mirar.\nContes tridimensionals (pop-ups)\, contes amb kamishibai\, versions noves de contes clàssics o populars\, il.lustracions que no son el que semblen\,\nllibres que es lligen al dret i a l’inrevés…\nHistòries originals que ens mostren els contes i els llibres en continua transformació.\n\nNarració oral – Titelles – Kamishibai – Manipulació d’objectes
URL:https://contaclown.es/activitat/transformacontes-3
CATEGORIES:Contacontes
ATTACH;FMTTYPE=image/jpeg:https://contaclown.es/wp-content/uploads/2022/10/transformacontes1b-1.jpeg
END:VEVENT
BEGIN:VEVENT
DTSTART;TZID=UTC:20221031T123000
DTEND;TZID=UTC:20221031T131500
DTSTAMP:20260422T101412
CREATED:20221027T203137Z
LAST-MODIFIED:20221027T203138Z
UID:3600-1667219400-1667222100@contaclown.es
SUMMARY:TRANSFORMACONTES
DESCRIPTION:Hora: 12.30h\nLloc: Plaça Major de València\ndins de la Programació de la Plaça del LLibre\nSinopsi:\nEls contes poden transformar-se en altres objectes\, transformar històries populars\, e inclús transformar la nostra forma de mirar.\nContes tridimensionals (pop-ups)\, contes amb kamishibai\, versions noves de contes clàssics o populars\, il.lustracions que no son el que semblen\,\nllibres que es lligen al dret i a l’inrevés…\nHistòries originals que ens mostren els contes i els llibres en continua transformació.\n\nNarració oral – Titelles – Kamishibai – Manipulació d’objectes \n 
URL:https://contaclown.es/activitat/transformacontes-2
CATEGORIES:Contacontes
ATTACH;FMTTYPE=image/jpeg:https://contaclown.es/wp-content/uploads/2022/10/transformacontes1b-1.jpeg
END:VEVENT
BEGIN:VEVENT
DTSTART;TZID=UTC:20221024T180000
DTEND;TZID=UTC:20221024T200000
DTSTAMP:20260422T101412
CREATED:20220901T193609Z
LAST-MODIFIED:20220901T193953Z
UID:3594-1666634400-1666641600@contaclown.es
SUMMARY:Planeta Contes+ Ecotaller a la Biblioteca Manel Garcia i Grau de Benicarló
DESCRIPTION:
URL:https://contaclown.es/activitat/planeta-contes-ecotaller-a-la-biblioteca-manel-garcia-i-grau-de-benicarlo
CATEGORIES:Contacontes
ATTACH;FMTTYPE=image/png:https://contaclown.es/wp-content/uploads/2017/08/21-06-22-BENICARLO-BIBLIOTECA-PROPOSTA-DIA-DE-LES-BIBLIOTEQUES.png
END:VEVENT
BEGIN:VEVENT
DTSTART;TZID=UTC:20221001T173000
DTEND;TZID=UTC:20221001T181500
DTSTAMP:20260422T101412
CREATED:20220901T171154Z
LAST-MODIFIED:20220901T171154Z
UID:3591-1664645400-1664648100@contaclown.es
SUMMARY:Contes Màgics dins de la Programació de la Festa del LLibre de Vila-real
DESCRIPTION:
URL:https://contaclown.es/activitat/contes-magics-dins-de-la-programacio-de-la-festa-del-llibre-de-vila-real
CATEGORIES:Contacontes
ATTACH;FMTTYPE=image/jpeg:https://contaclown.es/wp-content/uploads/2017/08/contes-magics.jpg
END:VEVENT
BEGIN:VEVENT
DTSTART;TZID=UTC:20220826T190000
DTEND;TZID=UTC:20220826T194000
DTSTAMP:20260422T101412
CREATED:20220829T194045Z
LAST-MODIFIED:20220729T105144Z
UID:3561-1661540400-1661542800@contaclown.es
SUMMARY:Amb V de Valentes
DESCRIPTION:
URL:https://contaclown.es/activitat/amb-v-de-valentes
CATEGORIES:Contacontes
ATTACH;FMTTYPE=image/jpeg:https://contaclown.es/wp-content/uploads/2022/07/Casal-Popular-Nules-Amb-V-de-valentes.jpg
END:VEVENT
BEGIN:VEVENT
DTSTART;TZID=UTC:20220826T190000
DTEND;TZID=UTC:20220826T194000
DTSTAMP:20260422T101412
CREATED:20220729T105753Z
LAST-MODIFIED:20220729T132619Z
UID:3567-1661540400-1661542800@contaclown.es
SUMMARY:Amb V de Valentes
DESCRIPTION:Un xiquet que vol ser ballarí\,\nuna princesa granota que vol triar\nel seu destí\,un drac que no vol lluitar\namb cap príncep\, una caputxeta vermella\nque no és com ens han contat…\nTots ells/es amb una característica en comú:\nser molt valents per canviar el conte\nque els ha tocat viure.\nEspectacle de contes coeducatius\nper a xiquets/es del S.XXI.
URL:https://contaclown.es/activitat/amb-v-de-valentes-2
CATEGORIES:Contacontes
ATTACH;FMTTYPE=image/jpeg:https://contaclown.es/wp-content/uploads/2022/07/Casal-Popular-Nules-Amb-V-de-valentes.jpg
END:VEVENT
BEGIN:VEVENT
DTSTART;TZID=UTC:20220824T190000
DTEND;TZID=UTC:20220824T200000
DTSTAMP:20260422T101412
CREATED:20220712T173721Z
LAST-MODIFIED:20220712T173722Z
UID:3247-1661367600-1661371200@contaclown.es
SUMMARY:Jugant
DESCRIPTION:
URL:https://contaclown.es/activitat/jugant
CATEGORIES:Contacontes
ATTACH;FMTTYPE=image/jpeg:https://contaclown.es/wp-content/uploads/2022/07/ALMASSORA-ESTIU-2022-CONTACONTES-IGUALTAT-BIBLIOTECA.jpg
END:VEVENT
BEGIN:VEVENT
DTSTART;TZID=UTC:20220810T190000
DTEND;TZID=UTC:20220810T200000
DTSTAMP:20260422T101412
CREATED:20220712T173534Z
LAST-MODIFIED:20220810T174156Z
UID:3245-1660158000-1660161600@contaclown.es
SUMMARY:Contem tots
DESCRIPTION:
URL:https://contaclown.es/activitat/contem-tots
CATEGORIES:Contacontes
ATTACH;FMTTYPE=image/jpeg:https://contaclown.es/wp-content/uploads/2022/07/Copia-de-ESTIU-DE-CONTE.jpg
END:VEVENT
BEGIN:VEVENT
DTSTART;TZID=UTC:20220801T200000
DTEND;TZID=UTC:20220801T210000
DTSTAMP:20260422T101412
CREATED:20220718T191552Z
LAST-MODIFIED:20220718T191553Z
UID:3430-1659384000-1659387600@contaclown.es
SUMMARY:Transformacontes
DESCRIPTION:
URL:https://contaclown.es/activitat/transformacontes
ATTACH;FMTTYPE=image/jpeg:https://contaclown.es/wp-content/uploads/2017/08/TRANSFORMACONTES.jpeg
END:VEVENT
BEGIN:VEVENT
DTSTART;TZID=UTC:20220727T190000
DTEND;TZID=UTC:20220727T200000
DTSTAMP:20260422T101412
CREATED:20220712T173330Z
LAST-MODIFIED:20220712T173331Z
UID:3242-1658948400-1658952000@contaclown.es
SUMMARY:De princeps\, princeses\, dracs i granotes rebels.
DESCRIPTION:
URL:https://contaclown.es/activitat/de-princeps-princeses-dracs-i-granotes-rebels
CATEGORIES:Contacontes
ATTACH;FMTTYPE=image/jpeg:https://contaclown.es/wp-content/uploads/2022/07/ALMASSORA-ESTIU-2022-CONTACONTES-IGUALTAT-BIBLIOTECA.jpg
END:VEVENT
BEGIN:VEVENT
DTSTART;TZID=UTC:20220713T190000
DTEND;TZID=UTC:20220713T200000
DTSTAMP:20260422T101412
CREATED:20220711T204819Z
LAST-MODIFIED:20220711T205011Z
UID:3213-1657738800-1657742400@contaclown.es
SUMMARY:Qui ha dit que no puc?
DESCRIPTION:
URL:https://contaclown.es/activitat/qui-ha-dit-que-no-puc
CATEGORIES:Contacontes
ATTACH;FMTTYPE=image/jpeg:https://contaclown.es/wp-content/uploads/2022/07/ALMASSORA-ESTIU-2022-CONTACONTES-IGUALTAT-BIBLIOTECA.jpg
END:VEVENT
BEGIN:VEVENT
DTSTART;TZID=UTC:20220617T100000
DTEND;TZID=UTC:20220617T110000
DTSTAMP:20260422T101412
CREATED:20220613T170119Z
LAST-MODIFIED:20220613T170958Z
UID:2699-1655460000-1655463600@contaclown.es
SUMMARY:Contacontes Aldaia
DESCRIPTION:Contacontes cole en Aldaia
URL:https://contaclown.es/activitat/contacontes-aldaia
LOCATION:CEIP AUSIÀS MARCH\, Aldaia\, Espanya
CATEGORIES:Contacontes
ATTACH;FMTTYPE=image/jpeg:https://contaclown.es/wp-content/uploads/2017/08/BAGUL-FANTASTIC-scaled.jpg
END:VEVENT
BEGIN:VEVENT
DTSTART;TZID=UTC:20220612T113000
DTEND;TZID=UTC:20220612T123000
DTSTAMP:20260422T101412
CREATED:20220613T162613Z
LAST-MODIFIED:20220613T165601Z
UID:2686-1655033400-1655037000@contaclown.es
SUMMARY:Transformacontes en la Bene
DESCRIPTION:Els contes poden transformar-se en altres objectes\, transformar històries populars\, i inclús la nostra forma de mirar. Contes tridimensionals\, contes amb kamishibai\, versions noves de clàssics o populars\, il·lustracions que no són el que semblen\, llibres que es lligen al dret i a l’inrevés.\n\n\n\n Les entrades es podran retirar en el punt d’informació del Centre Cultural La Beneficència\, des de mitja hora abans de cada funció. Màxim 5 entrades per grup familiar\, amb almenys un/a xiquet/a. Se subministraran entrades fins a completar l’aforament.\n\n\n\nPodràs obtindre les teues entrades de forma anticipada:\na través de la web www.labeneficencia.es
URL:https://contaclown.es/activitat/transformacontes-en-la-bene
LOCATION:Centre de la Beneficiència\, València
CATEGORIES:Contacontes
ATTACH;FMTTYPE=image/jpeg:https://contaclown.es/wp-content/uploads/2017/08/transformacontes1.jpg
END:VEVENT
END:VCALENDAR