BEGIN:VCALENDAR
VERSION:2.0
PRODID:-//Contaclown - ECPv6.15.14//NONSGML v1.0//EN
CALSCALE:GREGORIAN
METHOD:PUBLISH
X-ORIGINAL-URL:https://contaclown.es
X-WR-CALDESC:Esdeveniments per Contaclown
REFRESH-INTERVAL;VALUE=DURATION:PT1H
X-Robots-Tag:noindex
X-PUBLISHED-TTL:PT1H
BEGIN:VTIMEZONE
TZID:UTC
BEGIN:STANDARD
TZOFFSETFROM:+0000
TZOFFSETTO:+0000
TZNAME:UTC
DTSTART:20210101T000000
END:STANDARD
END:VTIMEZONE
BEGIN:VEVENT
DTSTART;TZID=UTC:20230808T193000
DTEND;TZID=UTC:20230808T201500
DTSTAMP:20260420T063705
CREATED:20230724T222025Z
LAST-MODIFIED:20230724T222025Z
UID:3719-1691523000-1691525700@contaclown.es
SUMMARY:CONTES D´AMOR AMB HUMOR
DESCRIPTION:Recull de contes on l´amor sempre venç\,\naixò sí de les formes més inesperades i divertides.\nContacontes a partir de 4 anys i públic familiar.
URL:https://contaclown.es/activitat/contes-damor-amb-humor
CATEGORIES:Contacontes
ATTACH;FMTTYPE=image/jpeg:https://contaclown.es/wp-content/uploads/2023/07/CONTES-A-LES-BUTXAQUES-1.jpg
END:VEVENT
BEGIN:VEVENT
DTSTART;TZID=UTC:20230805T200000
DTEND;TZID=UTC:20230805T210000
DTSTAMP:20260420T063705
CREATED:20230724T222614Z
LAST-MODIFIED:20230724T222854Z
UID:3722-1691265600-1691269200@contaclown.es
SUMMARY:CONTES MÀGICS
DESCRIPTION:Fa molts\, molts anys\, les lletres\nvivien soles i cap coneixia a la resta ni\nes relacionaven entre si.\nA la A per exemple li agradaven les\nametles\, els arbres\,\na la b les biblioteques\, les bicicletes\ni així a cadascuna d ́elles.\nPerò\, un bon dia\, va aparéixer\nper allà el Mag de les paraules\,\naquest sempre tenia molta fam\,\ni com no trobava res millor\nper menjar\, les va començar\na ajuntar per a fer-se una\ndeliciosa sopa de lletres…
URL:https://contaclown.es/activitat/contes-magics-3
CATEGORIES:Contacontes
ATTACH;FMTTYPE=image/png:https://contaclown.es/wp-content/uploads/2023/07/CONTES-MAGICS-2.png
END:VEVENT
BEGIN:VEVENT
DTSTART;TZID=UTC:20230801T193000
DTEND;TZID=UTC:20230801T201500
DTSTAMP:20260420T063705
CREATED:20230724T204846Z
LAST-MODIFIED:20230724T204847Z
UID:3715-1690918200-1690920900@contaclown.es
SUMMARY:CONTES A LES BUTXAQUES
DESCRIPTION:Sabeu el que porten a les butxaques els personatges dels contes?\nPotser penseu que un caramel o un xiclet … però que va!\nSi voleu saber-lo hauren de vindre a la Bibliomar de Benafeli.\nVos esperem!\nContacontes per a xiquets/es a partir de 4 anys i públic familiar.
URL:https://contaclown.es/activitat/contes-a-les-butxaques
LOCATION:Bibliomar Benafeli
CATEGORIES:Contacontes
ATTACH;FMTTYPE=image/jpeg:https://contaclown.es/wp-content/uploads/2023/07/CONTES-A-LES-BUTXAQUES.jpg
END:VEVENT
BEGIN:VEVENT
DTSTART;TZID=UTC:20230421T180000
DTEND;TZID=UTC:20230421T190000
DTSTAMP:20260420T063705
CREATED:20230316T093345Z
LAST-MODIFIED:20230316T093345Z
UID:3693-1682100000-1682103600@contaclown.es
SUMMARY:TRANSFORMACONTES
DESCRIPTION:Els contes poden transformar-se en altres objectes\,\ntransformar històries populars\, e inclús transformar\nla nostra forma de mirar.\nContes tridimensionals (pop-ups)\, contes amb kamishibai\,\nversions noves de contes clàssics o populars\,\nil.lustracions que no son el que semblen\,\nllibres que es lligen al dret i a l’inrevés…\nHistòries originals que ens mostren els contes\ni els llibres en continua transformació. \nNarració oral – Titelles – Kamishibai – Manipulació d’objectes
URL:https://contaclown.es/activitat/transformacontes-4
LOCATION:La Fábrica Mislata\, Mislata
CATEGORIES:Contacontes
ATTACH;FMTTYPE=image/jpeg:https://contaclown.es/wp-content/uploads/2023/03/TRANSFORMACONTES-AAFF_carteles_CSLF_primavera_23____14_3_22-1_page-0001.jpg
END:VEVENT
BEGIN:VEVENT
DTSTART;TZID=UTC:20230410T170000
DTEND;TZID=UTC:20230410T174500
DTSTAMP:20260420T063705
CREATED:20230329T110008Z
LAST-MODIFIED:20230329T110009Z
UID:3710-1681146000-1681148700@contaclown.es
SUMMARY:CON C DE CIÉNCIA.BIOGRAFÍAS TEATRALIZADAS. SYLVIA EARLE OCEANÓGRAFA
DESCRIPTION:Contaremos la vida de SYLVIA EARLE oceanógrafa e inventora\,considerada la 1a heroina del planeta\, desde su niñez hasta el momento actual\, con las diferentes anécdotas y las aventuras que ha vivido hasta convertirse en la referente que conocemos actualmente. \nAcompañaremos la narración con objetos\, imágenes\,  playmóviles y  juguetes para hacerla más interesante.
URL:https://contaclown.es/activitat/con-c-de-ciencia-biografias-teatralizadas-sylvia-earle-oceanografa
CATEGORIES:Contacontes
ATTACH;FMTTYPE=image/jpeg:https://contaclown.es/wp-content/uploads/2023/03/VILLAMALUR-AMB-C-DE-CIENCIA.jpg
END:VEVENT
BEGIN:VEVENT
DTSTART;TZID=UTC:20230408T120000
DTEND;TZID=UTC:20230408T130000
DTSTAMP:20260420T063705
CREATED:20230329T104608Z
LAST-MODIFIED:20230329T104608Z
UID:3707-1680955200-1680958800@contaclown.es
SUMMARY:CONTES MÀGICS
DESCRIPTION:Fa molts\, molts anys\, les LLETRES vivien SOLES i cap CONEIXIA a la resta ni es relacionaven entre si.\nA la A per exemple li agradaven les ametles\, els arbres i les ABRAÇADES\, a la B les BIBLIOTEQUES\, les bicicletes i els botons\, i així a cadascuna d´elles.\nPerò\, un bon dia\, va aparéixer per allà el MAG DE LES PARAULES\, aquest sempre tenia molta FAM\, i com no TROBAVA res millor per menjar\, les va començar a ajuntar per a fer-se una deliciosa SOPA DE LLETRES. Inesperadament\, es van crear un munt d´històries fantàstiques\nque vos convidem a conèixer.\nEsteu preparats? Correu\, correu que la sopa es refreda! \nNarració oral – Titelles – Manipulació d’objectes
URL:https://contaclown.es/activitat/contes-magics-2
CATEGORIES:Contacontes
ATTACH;FMTTYPE=image/jpeg:https://contaclown.es/wp-content/uploads/2023/03/XILXES-CARTELL-CONTES-MAGICS.jpg
END:VEVENT
BEGIN:VEVENT
DTSTART;TZID=UTC:20230331T184000
DTEND;TZID=UTC:20230331T194000
DTSTAMP:20260420T063705
CREATED:20230329T104046Z
LAST-MODIFIED:20230329T104047Z
UID:3704-1680288000-1680291600@contaclown.es
SUMMARY:TRANSFORMACONTES
DESCRIPTION:Els contes poden transformar-se en altres objectes\, transformar històries populars\,\ne inclús transformar la nostra forma de mirar.\nContes tridimensionals (pop-ups)\, contes amb kamishibai\, versions noves de contes clàssics o populars\,\nil.lustracions que no son el que semblen\,\nllibres que es lligen al dret i a l’inrevés…\nHistòries originals que ens mostren els contes i els llibres en continua transformació.\nNarració oral – Titelles – Kamishibai – Manipulació d’objectes
URL:https://contaclown.es/activitat/transformacontes-5
CATEGORIES:Contacontes
ATTACH;FMTTYPE=image/jpeg:https://contaclown.es/wp-content/uploads/2023/03/Copia-de-CARTELL-TRANFORMACONTES-1.jpg
END:VEVENT
BEGIN:VEVENT
DTSTART;TZID=UTC:20230325T173000
DTEND;TZID=UTC:20230325T180000
DTSTAMP:20260420T063705
CREATED:20230316T100652Z
LAST-MODIFIED:20230316T100734Z
UID:3698-1679765400-1679767200@contaclown.es
SUMMARY:Contacontes a l´entrega de Guardons Sambori Comarcal XV Festa per la Llengua Cervera del Maestrat
DESCRIPTION:
URL:https://contaclown.es/activitat/contacontes-a-lentrega-de-guardons-sambori-comarcal-xv-festa-per-la-llengua-cervera-del-maestrat
CATEGORIES:Contacontes
ATTACH;FMTTYPE=image/jpeg:https://contaclown.es/wp-content/uploads/2023/03/66e1c914-998a-43a3-94a9-7d24c15e9f38.jpg
END:VEVENT
BEGIN:VEVENT
DTSTART;TZID=UTC:20230317T183000
DTEND;TZID=UTC:20230317T193000
DTSTAMP:20260420T063705
CREATED:20230308T184253Z
LAST-MODIFIED:20230308T184254Z
UID:3685-1679077800-1679081400@contaclown.es
SUMMARY:CONTES DE LA MALETA ROJA
DESCRIPTION:
URL:https://contaclown.es/activitat/contes-de-la-maleta-roja-2
LOCATION:Casa dels Mundina
CATEGORIES:Contacontes
ATTACH;FMTTYPE=image/jpeg:https://contaclown.es/wp-content/uploads/2023/03/4bc383a9-33dc-456b-bb95-2e9e25cc6a24.jpg
END:VEVENT
BEGIN:VEVENT
DTSTART;TZID=UTC:20230311T173000
DTEND;TZID=UTC:20230311T180000
DTSTAMP:20260420T063705
CREATED:20230308T184630Z
LAST-MODIFIED:20230308T184631Z
UID:3688-1678555800-1678557600@contaclown.es
SUMMARY:Contacontes a la XV la Festa per la LLengua a Canet lo Roig
DESCRIPTION:
URL:https://contaclown.es/activitat/contacontes-a-la-xv-la-festa-per-la-llengua-a-canet-lo-roig
CATEGORIES:Contacontes
ATTACH;FMTTYPE=image/jpeg:https://contaclown.es/wp-content/uploads/2023/03/333905452_5607594706035727_6285223658022080899_n.jpg
END:VEVENT
BEGIN:VEVENT
DTSTART;TZID=UTC:20230309T180000
DTEND;TZID=UTC:20230309T190000
DTSTAMP:20260420T063705
CREATED:20230130T191412Z
LAST-MODIFIED:20230130T191413Z
UID:3682-1678384800-1678388400@contaclown.es
SUMMARY:Amb V de Valentes
DESCRIPTION:Un xiquet que vol ser ballarí\, una princesa granota que vol triar\nel seu destí\, un drac que no vol lluitar amb cap príncep\, una caputxeta vermella\nque no és com ens han contat…\nTots ells/es amb una característica en comú: ser molt valents per canviar el conte\nque els ha tocat viure.\nEspectacle de contes coeducatius per a xiquets/es del S.XXI.
URL:https://contaclown.es/activitat/amb-v-de-valentes-5
CATEGORIES:Contacontes
ATTACH;FMTTYPE=image/jpeg:https://contaclown.es/wp-content/uploads/2023/01/Amb-V-de-valentes-3.jpg
END:VEVENT
BEGIN:VEVENT
DTSTART;TZID=UTC:20230217T090000
DTEND;TZID=UTC:20230217T130000
DTSTAMP:20260420T063705
CREATED:20230127T183633Z
LAST-MODIFIED:20230127T184329Z
UID:3677-1676624400-1676638800@contaclown.es
SUMMARY:Dones científiques: Amb C de ciència
DESCRIPTION:
URL:https://contaclown.es/activitat/amb-v-de-valentes-4
CATEGORIES:Contacontes
ATTACH;FMTTYPE=image/jpeg:https://contaclown.es/wp-content/uploads/2023/01/NOVA-PROBA-CARTELL-ALDAIA-DONES-CIENTIFIQUES-FORMATO-INSTAGRAM-1.jpg
END:VEVENT
BEGIN:VEVENT
DTSTART;TZID=UTC:20230217T090000
DTEND;TZID=UTC:20230217T124500
DTSTAMP:20260420T063705
CREATED:20230127T183051Z
LAST-MODIFIED:20230127T183051Z
UID:3675-1676624400-1676637900@contaclown.es
SUMMARY:Dones científiques: Amb C de ciència
DESCRIPTION:Contarem la vida de diferents grans dones científiques\, des de la seua infantesa fins a la maduresa\,\namb les diferents anècdotes i totes les aventures que van haver de viure fins a convertir-se\nen les referents que coneixem actualment.\nAcompanyarem la narració amb objectes\, imatges\, playmòbils i joguets per a fer-la més interessant.
URL:https://contaclown.es/activitat/dones-cientifiques-amb-c-de-ciencia-3
CATEGORIES:Contacontes
ATTACH;FMTTYPE=image/jpeg:https://contaclown.es/wp-content/uploads/2023/01/NOVA-PROBA-CARTELL-ALDAIA-DONES-CIENTIFIQUES-FORMATO-INSTAGRAM-1.jpg
END:VEVENT
BEGIN:VEVENT
DTSTART;TZID=UTC:20230131T090000
DTEND;TZID=UTC:20230131T124500
DTSTAMP:20260420T063705
CREATED:20230127T182625Z
LAST-MODIFIED:20230127T182626Z
UID:3673-1675155600-1675169100@contaclown.es
SUMMARY:Dones científiques: Amb C de Ciència
DESCRIPTION:Contarem la vida de diferents grans dones científiques\, des de la seua infantesa fins a la maduresa\,\namb les diferents anècdotes i totes les aventures que van haver de viure fins a convertir-se\nen les referents que coneixem actualment.\nAcompanyarem la narració amb objectes\, imatges\, playmòbils i joguets per a fer-la més interessant.
URL:https://contaclown.es/activitat/dones-cientifiques-amb-c-de-ciencia-2
CATEGORIES:Contacontes
ATTACH;FMTTYPE=image/jpeg:https://contaclown.es/wp-content/uploads/2023/01/NOVA-PROBA-CARTELL-ALDAIA-DONES-CIENTIFIQUES-FORMATO-INSTAGRAM-1.jpg
END:VEVENT
BEGIN:VEVENT
DTSTART;TZID=UTC:20230129T110000
DTEND;TZID=UTC:20230129T120000
DTSTAMP:20260420T063705
CREATED:20230119T195948Z
LAST-MODIFIED:20230119T195948Z
UID:3666-1674990000-1674993600@contaclown.es
SUMMARY:CONTES MÀGICS
DESCRIPTION:Fa molts\, molts anys\, les lletres vivien soles i cap d’elles no coneixia la resta.\nPerò\, un dia\, va aparéixer per allà el Mag de les Paraules\, que sempre tenia\nmolta fam\, i com que no trobava res millor per a menjar\, les va començar\na ajuntar per a fer-se una deliciosa sopa de lletres.\nInesperadament\, es vancrear un munt d’històries fantàstiques que vos convidem a conéixer.\nEsteu preparats per escoltar-les?\nVinga que la sopa es refreda!
URL:https://contaclown.es/activitat/contes-magics
LOCATION:Centre de la Beneficiència\, València
CATEGORIES:Contacontes
ATTACH;FMTTYPE=image/jpeg:https://contaclown.es/wp-content/uploads/2023/01/SARC-DOSSIER-CONTES-MAGICS-.jpg
END:VEVENT
BEGIN:VEVENT
DTSTART;TZID=UTC:20230127T090000
DTEND;TZID=UTC:20230127T124500
DTSTAMP:20260420T063705
CREATED:20230127T182130Z
LAST-MODIFIED:20230127T182413Z
UID:3670-1674810000-1674823500@contaclown.es
SUMMARY:Dones científiques: Amb C de Ciència
DESCRIPTION:Contarem la vida de diferents grans dones científiques\, des de la seua infantesa fins a la maduresa\,\namb les diferents anècdotes i totes les aventures que van haver de viure fins a convertir-se\nen les referents que coneixem actualment.\nAcompanyarem la narració amb objectes\, imatges\, playmòbils i joguets per a fer-la més interessant.
URL:https://contaclown.es/activitat/dones-cientifiques-amb-c-de-ciencia
CATEGORIES:Contacontes
ATTACH;FMTTYPE=image/jpeg:https://contaclown.es/wp-content/uploads/2023/01/NOVA-PROBA-CARTELL-ALDAIA-DONES-CIENTIFIQUES-FORMATO-INSTAGRAM-1.jpg
END:VEVENT
BEGIN:VEVENT
DTSTART;TZID=UTC:20221229T120000
DTEND;TZID=UTC:20221229T124500
DTSTAMP:20260420T063705
CREATED:20221214T225646Z
LAST-MODIFIED:20221214T225646Z
UID:3641-1672315200-1672317900@contaclown.es
SUMMARY:Com una cabra
DESCRIPTION:
URL:https://contaclown.es/activitat/com-una-cabra
CATEGORIES:Contacontes
ATTACH;FMTTYPE=image/jpeg:https://contaclown.es/wp-content/uploads/2022/12/WhatsApp-Image-2022-11-29-at-22.18.29.jpeg
END:VEVENT
BEGIN:VEVENT
DTSTART;TZID=UTC:20221227T180000
DTEND;TZID=UTC:20221227T190000
DTSTAMP:20260420T063705
CREATED:20221214T225155Z
LAST-MODIFIED:20221214T225155Z
UID:3638-1672164000-1672167600@contaclown.es
SUMMARY:Altres contes de Nadal
DESCRIPTION:
URL:https://contaclown.es/activitat/altres-contes-de-nadal-2
CATEGORIES:Contacontes
ATTACH;FMTTYPE=image/jpeg:https://contaclown.es/wp-content/uploads/2022/12/317848443_111294825147111_6528287992641315494_n-1.jpg
END:VEVENT
BEGIN:VEVENT
DTSTART;TZID=UTC:20221225T113000
DTEND;TZID=UTC:20221225T123000
DTSTAMP:20260420T063705
CREATED:20221214T224842Z
LAST-MODIFIED:20221214T224843Z
UID:3636-1671967800-1671971400@contaclown.es
SUMMARY:Contes de la Maleta Roja
DESCRIPTION:
URL:https://contaclown.es/activitat/contes-de-la-maleta-roja
ATTACH;FMTTYPE=image/jpeg:https://contaclown.es/wp-content/uploads/2022/12/317848443_111294825147111_6528287992641315494_n.jpg
END:VEVENT
BEGIN:VEVENT
DTSTART;TZID=UTC:20221224T113000
DTEND;TZID=UTC:20221224T123000
DTSTAMP:20260420T063705
CREATED:20221214T224525Z
LAST-MODIFIED:20221214T224525Z
UID:3633-1671881400-1671885000@contaclown.es
SUMMARY:Rondalles Valencianes
DESCRIPTION:
URL:https://contaclown.es/activitat/rondalles-valencianes
ATTACH;FMTTYPE=image/jpeg:https://contaclown.es/wp-content/uploads/2022/12/317848443_111294825147111_6528287992641315494_n.jpg
END:VEVENT
BEGIN:VEVENT
DTSTART;TZID=UTC:20221218T110000
DTEND;TZID=UTC:20221218T123000
DTSTAMP:20260420T063705
CREATED:20221214T223204Z
LAST-MODIFIED:20221214T223205Z
UID:3627-1671361200-1671366600@contaclown.es
SUMMARY:Maquillatge Artístic a la Fira de les Arts de Vilafamés
DESCRIPTION:
URL:https://contaclown.es/activitat/maquillatge-artistic-a-la-fira-de-les-arts-de-vilafames
ATTACH;FMTTYPE=image/jpeg:https://contaclown.es/wp-content/uploads/2022/12/318713489_10226284566717892_3143561482073415276_n.jpg
END:VEVENT
BEGIN:VEVENT
DTSTART;TZID=UTC:20221217T170000
DTEND;TZID=UTC:20221217T174500
DTSTAMP:20260420T063705
CREATED:20221214T222405Z
LAST-MODIFIED:20221214T222405Z
UID:3624-1671296400-1671299100@contaclown.es
SUMMARY:Altres contes de Nadal
DESCRIPTION:
URL:https://contaclown.es/activitat/altres-contes-de-nadal
CATEGORIES:Contacontes
ATTACH;FMTTYPE=image/jpeg:https://contaclown.es/wp-content/uploads/2022/12/Copia-de-Casal-Popular-Nules-Amb-V-de-valentes-1-2.jpg
END:VEVENT
BEGIN:VEVENT
DTSTART;TZID=UTC:20221215T173000
DTEND;TZID=UTC:20221215T183000
DTSTAMP:20260420T063705
CREATED:20221214T223801Z
LAST-MODIFIED:20221214T223802Z
UID:3630-1671125400-1671129000@contaclown.es
SUMMARY:Una habitació mooolt gran amb kamishibai i Ruta Interactiva
DESCRIPTION:
URL:https://contaclown.es/activitat/una-habitacio-mooolt-gran-amb-kamishibai-i-ruta-interactiva
CATEGORIES:Contacontes
ATTACH;FMTTYPE=image/jpeg:https://contaclown.es/wp-content/uploads/2022/12/bbcdfddd-404a-4e2c-833d-5f74794a2c6f.jpg
END:VEVENT
BEGIN:VEVENT
DTSTART;TZID=UTC:20221125T180000
DTEND;TZID=UTC:20221125T184500
DTSTAMP:20260420T063705
CREATED:20221120T081340Z
LAST-MODIFIED:20221120T081341Z
UID:3616-1669399200-1669401900@contaclown.es
SUMMARY:Amb V de Valentes
DESCRIPTION:Sinopsi\nUn xiquet que vol ser ballarí\, una princesa granota que vol triar\nel seu destí\, un drac que no vol lluitar amb cap príncep\, una caputxeta vermella\nque no és com ens han contat…\nTots ells/es amb una característica en comú: ser molt valents per canviar el conte\nque els ha tocat viure.\nEspectacle de contes coeducatius per a xiquets/es del S.XXI. \n\nNarració oral – Manipulació d’objectes – Manipulació de ninots
URL:https://contaclown.es/activitat/amb-v-de-valentes-3
LOCATION:Casa dels Mundina
CATEGORIES:Contacontes
ATTACH;FMTTYPE=image/jpeg:https://contaclown.es/wp-content/uploads/2022/11/315947521_807049257307019_4318611846970416593_n.jpg
END:VEVENT
BEGIN:VEVENT
DTSTART;TZID=UTC:20221124T180000
DTEND;TZID=UTC:20221124T184500
DTSTAMP:20260420T063705
CREATED:20221109T205059Z
LAST-MODIFIED:20221109T205100Z
UID:3611-1669312800-1669315500@contaclown.es
SUMMARY:Contem tots/es!
DESCRIPTION:Recull de contes coeducatius\, divertits i solidaris\, \non la cooperació i l´amistat resoldrà qualsevol conflicte. \nEspectacle especial per el 25N\, Dia Internacional contra la violència de gènere.
URL:https://contaclown.es/activitat/contem-tots-es
LOCATION:Plaça Pere Cornell\, Almassora
CATEGORIES:Contacontes
ATTACH;FMTTYPE=image/jpeg:https://contaclown.es/wp-content/uploads/2022/11/CONTEM-TOTSES-ALMASSORA.jpg
END:VEVENT
BEGIN:VEVENT
DTSTART;TZID=UTC:20221120T113000
DTEND;TZID=UTC:20221120T123000
DTSTAMP:20260420T063705
CREATED:20221108T213645Z
LAST-MODIFIED:20221109T101228Z
UID:3606-1668943800-1668947400@contaclown.es
SUMMARY:Tú contes
DESCRIPTION:Sinopsi: \nUn xiquet gegant que ha de treballar per poder menjar\, \nuna xiqueta que mentres espera a la seua familia adoptiva \nimagina com poden ser\, una granota que viu a un lloc contaminat \ni que necessitarà l´ajuda de molts amics i amigues per poder viure en condicions\,  \nuna princesa que vol convertir-se en doctora i un cavaller que vol ser infermer… \nContarem contes que ens parlen dels drets dels xiquets/es : \n. Dret a estudiar i no treballar \n. Dret a sentir-se estimat \n. Dret a viure a una vivenda digna a un lloc no contaminat\, \n. Dret a tindre una familia que et cuide \, \n. Dret a tindre una una nacionalitat… \nContes divertits i sorprenents per aprendre que tots contem i festejar el 20 de Novembre \n Dia Internacional dels drets dels infants.
URL:https://contaclown.es/activitat/tu-contes
LOCATION:Plaça de l´Ajuntament. Canet d´En Berenguer
CATEGORIES:Contacontes
ATTACH;FMTTYPE=image/jpeg:https://contaclown.es/wp-content/uploads/2022/11/20-NOVEMBRE.jpg
END:VEVENT
BEGIN:VEVENT
DTSTART;TZID=UTC:20221119T170000
DTEND;TZID=UTC:20221119T174000
DTSTAMP:20260420T063705
CREATED:20221120T083239Z
LAST-MODIFIED:20221120T083240Z
UID:3620-1668877200-1668879600@contaclown.es
SUMMARY:Tú contes
DESCRIPTION:Un xiquet gegant que ha de treballar per poder menjar\, \nuna xiqueta que mentres espera a la seua familia adoptiva \nimagina com pot ser la seua familia ideal\, una bruixeta solidaria… \nContarem contes que ens parlen dels drets dels xiquets/es : \n.Dret a estudiar i no treballar \n.Dret a sentir-se estimat \n. Dret a tindre una familia que et cuide \, \n. Dret a tindre una una nacionalitat… \nContes divertits i sorprenents per aprendre que tots contem \n i festejar el 20 de Novembre Dia Internacional dels drets dels infants.
URL:https://contaclown.es/activitat/tu-contes-2
CATEGORIES:Contacontes
ATTACH;FMTTYPE=image/jpeg:https://contaclown.es/wp-content/uploads/2022/11/315889787_521582810008014_6052962995377463291_n.jpg
END:VEVENT
BEGIN:VEVENT
DTSTART;TZID=UTC:20221116T180000
DTEND;TZID=UTC:20221116T190000
DTSTAMP:20260420T063705
CREATED:20221108T210252Z
LAST-MODIFIED:20221108T210253Z
UID:3604-1668621600-1668625200@contaclown.es
SUMMARY:Transformacontes
DESCRIPTION:Sinopsi\nEls contes poden transformar-se en altres objectes\, transformar històries populars\, e inclús transformar la nostra forma de mirar.\nContes tridimensionals (pop-ups)\, contes amb kamishibai\, versions noves de contes clàssics o populars\, il.lustracions que no son el que semblen\,\nllibres que es lligen al dret i a l’inrevés…\nHistòries originals que ens mostren els contes i els llibres en continua transformació.\n\nNarració oral – Titelles – Kamishibai – Manipulació d’objectes
URL:https://contaclown.es/activitat/transformacontes-3
CATEGORIES:Contacontes
ATTACH;FMTTYPE=image/jpeg:https://contaclown.es/wp-content/uploads/2022/10/transformacontes1b-1.jpeg
END:VEVENT
BEGIN:VEVENT
DTSTART;TZID=UTC:20221031T123000
DTEND;TZID=UTC:20221031T131500
DTSTAMP:20260420T063705
CREATED:20221027T203137Z
LAST-MODIFIED:20221027T203138Z
UID:3600-1667219400-1667222100@contaclown.es
SUMMARY:TRANSFORMACONTES
DESCRIPTION:Hora: 12.30h\nLloc: Plaça Major de València\ndins de la Programació de la Plaça del LLibre\nSinopsi:\nEls contes poden transformar-se en altres objectes\, transformar històries populars\, e inclús transformar la nostra forma de mirar.\nContes tridimensionals (pop-ups)\, contes amb kamishibai\, versions noves de contes clàssics o populars\, il.lustracions que no son el que semblen\,\nllibres que es lligen al dret i a l’inrevés…\nHistòries originals que ens mostren els contes i els llibres en continua transformació.\n\nNarració oral – Titelles – Kamishibai – Manipulació d’objectes \n 
URL:https://contaclown.es/activitat/transformacontes-2
CATEGORIES:Contacontes
ATTACH;FMTTYPE=image/jpeg:https://contaclown.es/wp-content/uploads/2022/10/transformacontes1b-1.jpeg
END:VEVENT
BEGIN:VEVENT
DTSTART;TZID=UTC:20221024T180000
DTEND;TZID=UTC:20221024T200000
DTSTAMP:20260420T063705
CREATED:20220901T193609Z
LAST-MODIFIED:20220901T193953Z
UID:3594-1666634400-1666641600@contaclown.es
SUMMARY:Planeta Contes+ Ecotaller a la Biblioteca Manel Garcia i Grau de Benicarló
DESCRIPTION:
URL:https://contaclown.es/activitat/planeta-contes-ecotaller-a-la-biblioteca-manel-garcia-i-grau-de-benicarlo
CATEGORIES:Contacontes
ATTACH;FMTTYPE=image/png:https://contaclown.es/wp-content/uploads/2017/08/21-06-22-BENICARLO-BIBLIOTECA-PROPOSTA-DIA-DE-LES-BIBLIOTEQUES.png
END:VEVENT
END:VCALENDAR